BEGIN:VCALENDAR
VERSION:2.0
PRODID:-//wp-events-plugin.com//6.6.3//EN
BEGIN:VEVENT
UID:7102@barosstemplom.hu
DTSTART:20251017T190000Z
DTEND:20251017T200000Z
DTSTAMP:20251213T075758Z
URL:https://barosstemplom.hu/esemenyek/szentsegimadas-2025-10-17/
SUMMARY:Szentségimádás
DESCRIPTION:Szentségimádás minden harmadik pénteken az esti mise után 
 az online imacsoport szervezésében
ATTACH;FMTTYPE=image/jpeg:https://barosstemplom.hu/wp-content/uploads/2025
 /09/Eucharisztia-Oltariszentseg.jpg
CATEGORIES:ima
END:VEVENT
END:VCALENDAR