BEGIN:VCALENDAR
VERSION:2.0
PRODID:-//wp-events-plugin.com//6.6.3//EN
BEGIN:VEVENT
UID:2859@barosstemplom.hu
DTSTART:20260422T190000Z
DTEND:20260422T203000Z
DTSTAMP:20251114T205323Z
URL:https://barosstemplom.hu/esemenyek/szentlelek-szeminarium-2026-04-22/
SUMMARY:Mustármag közösség
DESCRIPTION:
ATTACH;FMTTYPE=image/jpeg:https://barosstemplom.hu/wp-content/uploads/2025
 /09/Untitled-design-3.jpg
END:VEVENT
END:VCALENDAR