BEGIN:VCALENDAR
VERSION:2.0
PRODID:-//wp-events-plugin.com//6.6.3//EN
BEGIN:VEVENT
UID:2842@barosstemplom.hu
DTSTART:20260602T190000Z
DTEND:20260602T200000Z
DTSTAMP:20250914T191240Z
URL:https://barosstemplom.hu/esemenyek/szent-kinga-karitasz-csoport-megbes
 zeles-2-2026-06-02/
SUMMARY:Szent Kinga Karitász Csoport megbeszélés
DESCRIPTION:A plébániákon működő Szent Kinga Karitász Csoport fő c
 élja a környéken élő rászorulók felkutatása és segítése közös
 ségünk együttműködésével. Karácsony és húsévt előtt például 
 a hívek adományainak köszönhetően tartósélelmiszer-csomagokat osztu
 nk szét a plébániánk területén élő\, nehéz helyzetben lévő csal
 ádok és idősek között.\n\nTovábbi részletek: https://barosstemplom.
 hu/szent-kinga-karitasz-csoport/
ATTACH;FMTTYPE=image/jpeg:https://barosstemplom.hu/wp-content/uploads/2025
 /01/Untitled-design.jpg
CATEGORIES:Karitász,közösség,szolgálat
END:VEVENT
END:VCALENDAR