BEGIN:VCALENDAR
VERSION:2.0
PRODID:-//wp-events-plugin.com//6.6.3//EN
BEGIN:VEVENT
UID:2785@barosstemplom.hu
DTSTART:20251104T200000Z
DTEND:20251104T213000Z
DTSTAMP:20250914T190515Z
URL:https://barosstemplom.hu/esemenyek/szent-csalad-enekkar-proba-2025-11-
 04/
SUMMARY:Szent Család Énekkar próba
DESCRIPTION:Minden hónap első szombatján\, a Teréz-misén énekelünk g
 itáros énekeket.\nPróba: minden kedden este a plébánián. Pontos beos
 ztás a PLÉBÁNIAI TEREMBEOSZTÁS-ban.\nÉrd: Godányi Zoltán (zoltangod
 anyi@t-online.hu\, 20/514-0959)
ATTACH;FMTTYPE=image/jpeg:https://barosstemplom.hu/wp-content/uploads/2024
 /11/szent_csalad_gitaros_enekkozosseg.jpg
END:VEVENT
END:VCALENDAR