BEGIN:VCALENDAR
VERSION:2.0
PRODID:-//wp-events-plugin.com//6.6.3//EN
BEGIN:VEVENT
UID:1185@barosstemplom.hu
DTSTART:20250512T190000Z
DTEND:20250512T203000Z
DTSTAMP:20250210T192645Z
URL:https://barosstemplom.hu/esemenyek/olvasokor-2-2025-05-12/
SUMMARY:Olvasókör
DESCRIPTION:A Barossi Olvasókör mindenki számára nyitott csoport kortó
 l\, nemtől függetlenül. Mindannyian nagyon szeretünk olvasni\, rendsze
 resen térünk be könyvesboltba\, szívesen megyünk könyvtárba.Idén m
 inden hónap második hétfőjén este 7 és 9 között találkozunk a pl
 ébánia tanácstermében.\nAlkalmainkon megosztjuk egymással olvasás é
 lményeinket\, könyvajánlókat tartunk\, közösen beszélgetünk szöve
 g részletekről\, írókról\, podcast-ekről. Közös olvasnivalót tűz
 ünk ki a következő hónapra.\n\nTovábbi részletek: https://barosstemp
 lom.hu/olvasokor/
ATTACH;FMTTYPE=image/jpeg:https://barosstemplom.hu/wp-content/uploads/2024
 /11/olvasokor.jpg
CATEGORIES:közösség,szórakozás
END:VEVENT
END:VCALENDAR