BEGIN:VCALENDAR
VERSION:2.0
PRODID:-//wp-events-plugin.com//6.6.3//EN
BEGIN:VEVENT
UID:1251@barosstemplom.hu
DTSTART:20250404T200000Z
DTEND:20250404T220000Z
DTSTAMP:20250331T194910Z
URL:https://barosstemplom.hu/esemenyek/filmklub/
SUMMARY:Filmklub
DESCRIPTION:A minden hónap harmadik péntekén 20:00 órai kezdettel szép
  / érdekes / elgondolkodtató / kedves filmeket nézünk meg együtt\, ma
 jd utána egy kicsit beszélgetünk róla.\nTovábbi részletek: https://b
 arosstemplom.hu/filmklub/
END:VEVENT
END:VCALENDAR