BEGIN:VCALENDAR
VERSION:2.0
PRODID:-//wp-events-plugin.com//6.6.3//EN
BEGIN:VEVENT
UID:1106@barosstemplom.hu
DTSTART:20250616T210000Z
DTEND:20250616T223000Z
DTSTAMP:20250121T081340Z
URL:https://barosstemplom.hu/esemenyek/ferfikor-2025-06-16/
SUMMARY:Férfikör
DESCRIPTION:A férfikör az exodus 90 lelkigyakorlatban részt vett barossi
  férfiakból alakult.\n\nA férfikör célja\, hogy három hetente hétf
 őnként 21:00-tól a plébánián imában\, Jézussal közösségben mego
 sszuk egymással nehézségeinket\, örömeinket és közösen feldolgozzu
 nk férfiakat érintő kérdéseket\, kihívásokat\, közösen megéljük
 \, mit jelent a XXI. században keresztény férfinak\, férjnek\, apának
  lenni.\n\nTovábbi részletek: https://barosstemplom.hu/ferfikor/
ATTACH;FMTTYPE=image/jpeg:https://barosstemplom.hu/wp-content/uploads/2024
 /11/ferfikor.jpg
CATEGORIES:közösség
END:VEVENT
END:VCALENDAR