BEGIN:VCALENDAR
VERSION:2.0
PRODID:-//wp-events-plugin.com//6.6.3//EN
BEGIN:VEVENT
UID:372@barosstemplom.hu
DTSTART:20250523T170000Z
DTEND:20250523T183000Z
DTSTAMP:20241210T202108Z
URL:https://barosstemplom.hu/esemenyek/apa-fia-foci-a-verbitaknal-2025-05-
 23/
SUMMARY:Apa-fia foci (a verbitáknál)
DESCRIPTION:Minden apát és nagy fiát várjuk péntek esténként 17:00-t
 ól 18:30-ig egy kis focira a verbiták focipályájára.\n\nCím:  Náz
 áret Missziósház és Szent Arnold Lelkigyakorlatos Ház\, Budapest\, Ba
 jcsy-Zsilinszky u. 3-5\, 1223\n\nKérdés esetén írjatok vagy hívjatok 
 bátran!\nGyertek!\n\nSzervezi: Timár Levente\n\nÉrdeklődni: timar.lev
 ente77@gmail.com\, tel.:06305602745
ATTACH;FMTTYPE=image/jpeg:https://barosstemplom.hu/wp-content/uploads/2024
 /11/apafoci.jpg
CATEGORIES:sport
END:VEVENT
END:VCALENDAR